Workbook
Name klub: [1]legenda!$C$1:$C$19
Name kluby: legenda!$C$1:$C$19
Name kod: legenda!$I$2:$I$15
Name skrót: legenda!$D$2:$D$19
Name sport: legenda!$F$2:$F$41
Name TN: legenda!$L$2:$L$3

Sheet 28_akcje 1
A1: ........................................................ | K1: Załącznik nr 28 do umowy nr 2026.0225/0281/SubB/DSW
A2: Zleceniobiorca
A3: Zestawienie faktur (rachunków) do zrealizowanego działania
A4: (sporządzić odrębnie dla każdego działania)
A5: Szkolenie sportowe i współzawodnictwo młodzieży realizowane w sporcie akademickim, Wojskowych Centrach Szkolenia Sportowego oraz Ośrodkach Szkolenia Sportowego Młodzieży Ludowych Zespołów Sportowych*
A6: Zgrupowania i konsultacje krajowe
A7: w terminie od 1 stycznia do 30 czerwca roku 2026
A9: wybierz z listy
A11: Realiz. | B11: Sport | C11: Nr akcji | D11: Numer faktury/rachunku | E11: Data wystawienia | F11: Data zapłaty | G11: Środki FRKF | H11: Środki własne | I11: Razem | J11: Nazwa firmy lub nazwisko i imię wystawcy rach./faktury i adres | K11: Opis/zgodnie z katalogiem kosztów
I14: =G14+H14 -> 0
I15: =G15+H15 -> 0
I16: =G16+H16 -> 0
I17: =G17+H17 -> 0
I18: =G18+H18 -> 0
I19: =G19+H19 -> 0
I20: =G20+H20 -> 0
I21: =G21+H21 -> 0
I22: =G22+H22 -> 0
I23: =G23+H23 -> 0
I24: =G24+H24 -> 0
I25: =G25+H25 -> 0
... I51: =G51+H51 -> 0
A52: RAZEM | G52: =SUM(G14:G51) -> 0 | H52: =SUM(H14:H51) -> 0 | I52: =SUM(I14:I51) -> 0
A53: * - niewłaściwe skreślić
E58: Osoba uprawniona | K58: Osoba uprawniona
E59: (pieczątka i podpis) | K59: (pieczątka i podpis)

Sheet 28_akcje 2
A1: ........................................................ | K1: Załącznik nr 28 do umowy nr 2026.0225/0281/SubB/DSW
A2: Zleceniobiorca
A3: Zestawienie faktur (rachunków) do zrealizowanego działania
A4: (sporządzić odrębnie dla każdego działania)
A5: Szkolenie sportowe i współzawodnictwo młodzieży realizowane w sporcie akademickim, Wojskowych Centrach Szkolenia Sportowego oraz Ośrodkach Szkolenia Sportowego Młodzieży Ludowych Zespołów Sportowych*
A6: Zgrupowania zagraniczne
A7: ='28_akcje 1'!A7:K7 -> w terminie od 1 stycznia do 30 czerwca roku 2026
A9: ='28_akcje 1'!A9:K9 -> wybierz z listy
A11: Realiz. | B11: Sport | C11: Nr akcji | D11: Numer faktury/rachunku | E11: Data wystawienia | F11: Data zapłaty | G11: Środki FRKF | H11: Środki własne | I11: Razem | J11: Nazwa firmy lub nazwisko i imię wystawcy rach./faktury i adres | K11: Opis/zgodnie z katalogiem kosztów
I14: =G14+H14 -> 0
I15: =G15+H15 -> 0
I16: =G16+H16 -> 0
I17: =G17+H17 -> 0
I18: =G18+H18 -> 0
I19: =G19+H19 -> 0
I20: =G20+H20 -> 0
I21: =G21+H21 -> 0
I22: =G22+H22 -> 0
I23: =G23+H23 -> 0
I24: =G24+H24 -> 0
I25: =G25+H25 -> 0
... I51: =G51+H51 -> 0
A52: RAZEM | G52: =SUM(G14:G51) -> 0 | H52: =SUM(H14:H51) -> 0 | I52: =SUM(I14:I51) -> 0
A53: * - niewłaściwe skreślić
A54: ** dotyczy środków FRKF
E58: Osoba uprawniona | K58: Osoba uprawniona
E59: (pieczątka i podpis) | K59: (pieczątka i podpis)

Sheet 28_akcje 3
A1: ........................................................ | K1: Załącznik nr 28 do umowy nr 2026.0225/0281/SubB/DSW
A2: Zleceniobiorca
A3: Zestawienie faktur (rachunków) do zrealizowanego działania
A4: (sporządzić odrębnie dla każdego działania)
A5: Szkolenie sportowe i współzawodnictwo młodzieży realizowane w sporcie akademickim, Wojskowych Centrach Szkolenia Sportowego oraz Ośrodkach Szkolenia Sportowego Młodzieży Ludowych Zespołów Sportowych*
A6: Zawody krajowe
A7: ='28_akcje 1'!A7:K7 -> w terminie od 1 stycznia do 30 czerwca roku 2026
A9: ='28_akcje 1'!A9:K9 -> wybierz z listy
A11: Realiz. | B11: Sport | C11: Nr akcji | D11: Numer faktury/rachunku | E11: Data wystawienia | F11: Data zapłaty | G11: Środki FRKF | H11: Środki własne | I11: Razem | J11: Nazwa firmy lub nazwisko i imię wystawcy rach./faktury i adres | K11: Opis/zgodnie z katalogiem kosztów
I14: =G14+H14 -> 0
I15: =G15+H15 -> 0
I16: =G16+H16 -> 0
I17: =G17+H17 -> 0
I18: =G18+H18 -> 0
I19: =G19+H19 -> 0
I20: =G20+H20 -> 0
I21: =G21+H21 -> 0
I22: =G22+H22 -> 0
I23: =G23+H23 -> 0
I24: =G24+H24 -> 0
I25: =G25+H25 -> 0
... I51: =G51+H51 -> 0
A52: RAZEM | G52: =SUM(G14:G51) -> 0 | H52: =SUM(H14:H51) -> 0 | I52: =SUM(I14:I51) -> 0
A53: * - niewłaściwe skreślić
A54: ** dotyczy środków FRKF
E58: Osoba uprawniona | K58: Osoba uprawniona
E59: (pieczątka i podpis) | K59: (pieczątka i podpis)

Sheet 28_akcje 4
A1: ........................................................ | K1: Załącznik nr 28 do umowy nr 2026.0225/0281/SubB/DSW
A2: Zleceniobiorca
A3: Zestawienie faktur (rachunków) do zrealizowanego działania
A4: (sporządzić odrębnie dla każdego działania)
A5: Szkolenie sportowe i współzawodnictwo młodzieży realizowane w sporcie akademickim, Wojskowych Centrach Szkolenia Sportowego oraz Ośrodkach Szkolenia Sportowego Młodzieży Ludowych Zespołów Sportowych*
A6: Zawody zagraniczne
A7: ='28_akcje 1'!A7:K7 -> w terminie od 1 stycznia do 30 czerwca roku 2026
A9: ='28_akcje 1'!A9:K9 -> wybierz z listy
A11: Realiz. | B11: Sport | C11: Nr akcji | D11: Numer faktury/rachunku | E11: Data wystawienia | F11: Data zapłaty | G11: Środki FRKF | H11: Środki własne | I11: Razem | J11: Nazwa firmy lub nazwisko i imię wystawcy rach./faktury i adres | K11: Opis/zgodnie z katalogiem kosztów
I14: =G14+H14 -> 0
I15: =G15+H15 -> 0
I16: =G16+H16 -> 0
I17: =G17+H17 -> 0
I18: =G18+H18 -> 0
I19: =G19+H19 -> 0
I20: =G20+H20 -> 0
I21: =G21+H21 -> 0
I22: =G22+H22 -> 0
I23: =G23+H23 -> 0
I24: =G24+H24 -> 0
I25: =G25+H25 -> 0
... I51: =G51+H51 -> 0
A52: RAZEM | G52: =SUM(G14:G51) -> 0 | H52: =SUM(H14:H51) -> 0 | I52: =SUM(I14:I51) -> 0
A53: * - niewłaściwe skreślić
A54: ** dotyczy środków FRKF
E58: Osoba uprawniona | K58: Osoba uprawniona
E59: (pieczątka i podpis) | K59: (pieczątka i podpis)

Sheet 28_doszk.kadry
A1: ........................................................ | K1: Załącznik nr 28 do umowy nr 2026.0225/0281/SubB/DSW
A2: Zleceniobiorca
A3: Zestawienie faktur (rachunków) do zrealizowanego działania
A4: (sporządzić odrębnie dla każdego działania)
A5: Szkolenie sportowe i współzawodnictwo młodzieży realizowane w sporcie akademickim, Wojskowych Centrach Szkolenia Sportowego oraz Ośrodkach Szkolenia Sportowego Młodzieży Ludowych Zespołów Sportowych*
A6: Doszkalanie kadry szkoleniowej
A7: ='28_akcje 1'!A7:K7 -> w terminie od 1 stycznia do 30 czerwca roku 2026
A9: ='28_akcje 1'!A9:K9 -> wybierz z listy
A11: Realiz. | B11: Sport | C11: Nr akcji | D11: Numer faktury/rachunku | E11: Data wystawienia | F11: Data zapłaty | G11: Środki FRKF | H11: Środki własne | I11: Razem | J11: Nazwa firmy lub nazwisko i imię wystawcy rach./faktury i adres | K11: Opis/zgodnie z katalogiem kosztów
I14: =G14+H14 -> 0
I15: =G15+H15 -> 0
I16: =G16+H16 -> 0
I17: =G17+H17 -> 0
I18: =G18+H18 -> 0
I19: =G19+H19 -> 0
I20: =G20+H20 -> 0
I21: =G21+H21 -> 0
I22: =G22+H22 -> 0
I23: =G23+H23 -> 0
I24: =G24+H24 -> 0
I25: =G25+H25 -> 0
... I51: =G51+H51 -> 0
A52: RAZEM | G52: =SUM(G14:G51) -> 0 | H52: =SUM(H14:H51) -> 0 | I52: =SUM(I14:I51) -> 0
A53: * - niewłaściwe skreślić
A54: ** dotyczy środków FRKF
E58: Osoba uprawniona | K58: Osoba uprawniona
E59: (pieczątka i podpis) | K59: (pieczątka i podpis)

Sheet 28_leki...
A1: ........................................................ | K1: Załącznik nr 28 do umowy nr 2026.0225/0281/SubB/DSW
A2: Zleceniobiorca
A3: Zestawienie faktur (rachunków) do zrealizowanego działania
A4: (sporządzić odrębnie dla każdego działania)
A5: Szkolenie sportowe i współzawodnictwo młodzieży realizowane w sporcie akademickim, Wojskowych Centrach Szkolenia Sportowego oraz Ośrodkach Szkolenia Sportowego Młodzieży Ludowych Zespołów Sportowych*
A6: Leki, suplementy diety, odżywki itp.
A7: ='28_akcje 1'!A7:K7 -> w terminie od 1 stycznia do 30 czerwca roku 2026
A9: ='28_akcje 1'!A9:K9 -> wybierz z listy
A11: Realiz. | B11: Sport | C11: Nr akcji | D11: Numer faktury/rachunku | E11: Data wystawienia | F11: Data zapłaty | G11: Środki FRKF | H11: Środki własne | I11: Razem | J11: Nazwa firmy lub nazwisko i imię wystawcy rach./faktury i adres | K11: Opis/zgodnie z katalogiem kosztów
I14: =G14+H14 -> 0
I15: =G15+H15 -> 0
I16: =G16+H16 -> 0
I17: =G17+H17 -> 0
I18: =G18+H18 -> 0
I19: =G19+H19 -> 0
I20: =G20+H20 -> 0
I21: =G21+H21 -> 0
I22: =G22+H22 -> 0
I23: =G23+H23 -> 0
I24: =G24+H24 -> 0
I25: =G25+H25 -> 0
... I51: =G51+H51 -> 0
A52: RAZEM | G52: =SUM(G14:G51) -> 0 | H52: =SUM(H14:H51) -> 0 | I52: =SUM(I14:I51) -> 0
A53: * - niewłaściwe skreślić
A54: ** dotyczy środków FRKF
E58: Osoba uprawniona | K58: Osoba uprawniona
E59: (pieczątka i podpis) | K59: (pieczątka i podpis)

Sheet 28_sprzęt
A1: ........................................................ | L1: ='28_akcje 1'!K1 -> Załącznik nr 28 do umowy nr 2026.0225/0281/SubB/DSW
A2: Zleceniobiorca
A3: Zestawienie faktur (rachunków) do zrealizowanego działania
A4: (sporządzić odrębnie dla każdego działania)
A5: Szkolenie sportowe i współzawodnictwo młodzieży realizowane w sporcie akademickim, Wojskowych Centrach Szkolenia Sportowego oraz Ośrodkach Szkolenia Sportowego Młodzieży Ludowych Zespołów Sportowych*
A6: Zakup i obsługa sprzętu sportowego, specjalistycznego
A7: ='28_akcje 1'!A7:K7 -> w terminie od 1 stycznia do 30 czerwca roku 2026
A9: ='28_akcje 1'!A9:K9 -> wybierz z listy
A11: Realiz. | B11: Sport | C11: Lp. | D11: Nr z zał. 24 | E11: Numer faktury/rachunku | F11: Data wystawienia | G11: Data zapłaty | H11: Środki FRKF | I11: Środki własne | J11: Razem | K11: Nazwa firmy lub nazwisko i imię wystawcy rach./faktury i adres | L11: Opis/zgodnie z katalogiem kosztów
J14: =H14+I14 -> 0
J15: =H15+I15 -> 0
J16: =H16+I16 -> 0
J17: =H17+I17 -> 0
J18: =H18+I18 -> 0
J19: =H19+I19 -> 0
J20: =H20+I20 -> 0
J21: =H21+I21 -> 0
J22: =H22+I22 -> 0
J23: =H23+I23 -> 0
J24: =H24+I24 -> 0
J25: =H25+I25 -> 0
... J51: =H51+I51 -> 0
A52: RAZEM | H52: =SUM(H14:H51) -> 0 | I52: =SUM(I14:I51) -> 0 | J52: =SUM(J14:J51) -> 0
A53: * - niewłaściwe skreślić
A54: ** dotyczy środków FRKF
F58: Osoba uprawniona | L58: Osoba uprawniona
F59: (pieczątka i podpis) | L59: (pieczątka i podpis)

Sheet 28_badania
A1: ........................................................ | K1: ='28_akcje 1'!K1 -> Załącznik nr 28 do umowy nr 2026.0225/0281/SubB/DSW
A2: Zleceniobiorca
A3: Zestawienie faktur (rachunków) do zrealizowanego działania
A4: (sporządzić odrębnie dla każdego działania)
A5: Szkolenie sportowe i współzawodnictwo młodzieży realizowane w sporcie akademickim, Wojskowych Centrach Szkolenia Sportowego oraz Ośrodkach Szkolenia Sportowego Młodzieży Ludowych Zespołów Sportowych*
A6: Badania diagnostyczne/monitoring
A7: ='28_akcje 1'!A7:K7 -> w terminie od 1 stycznia do 30 czerwca roku 2026
A9: ='28_akcje 1'!A9:K9 -> wybierz z listy
A11: Realiz. | B11: Sport | C11: Lp. | D11: Numer faktury/rachunku | E11: Data wystawienia | F11: Data zapłaty | G11: Środki FRKF | H11: Środki własne | I11: Razem | J11: Nazwa firmy lub nazwisko i imię wystawcy rach./faktury i adres | K11: Opis/zgodnie z katalogiem kosztów
I14: =G14+H14 -> 0
I15: =G15+H15 -> 0
I16: =G16+H16 -> 0
I17: =G17+H17 -> 0
I18: =G18+H18 -> 0
I19: =G19+H19 -> 0
I20: =G20+H20 -> 0
I21: =G21+H21 -> 0
I22: =G22+H22 -> 0
I23: =G23+H23 -> 0
I24: =G24+H24 -> 0
I25: =G25+H25 -> 0
... I51: =G51+H51 -> 0
A52: RAZEM | G52: =SUM(G14:G51) -> 0 | H52: =SUM(H14:H51) -> 0 | I52: =SUM(I14:I51) -> 0
A53: * - niewłaściwe skreślić
A54: ** dotyczy środków FRKF
E58: Osoba uprawniona | K58: Osoba uprawniona
E59: (pieczątka i podpis) | K59: (pieczątka i podpis)

Sheet 28_OFP
A1: ........................................................ | L1: ='28_akcje 1'!K1 -> Załącznik nr 28 do umowy nr 2026.0225/0281/SubB/DSW
A2: Zleceniobiorca
A3: Zestawienie faktur (rachunków) do zrealizowanego działania
A4: (sporządzić odrębnie dla każdego działania)
A5: Szkolenie sportowe i współzawodnictwo młodzieży realizowane w sporcie akademickim, Wojskowych Centrach Szkolenia Sportowego oraz Ośrodkach Szkolenia Sportowego Młodzieży Ludowych Zespołów Sportowych*
A6: Osobowy fundusz płac
A7: ='28_akcje 1'!A7:K7 -> w terminie od 1 stycznia do 30 czerwca roku 2026
A9: ='28_akcje 1'!A9:K9 -> wybierz z listy
A11: Realiz. | B11: Sport | C11: Lp. | D11: Nr z zał. 25a | E11: Numer faktury/rachunku | F11: Data wystawienia | G11: Data zapłaty | H11: Środki FRKF | I11: Środki własne | J11: Razem | K11: Nazwa firmy lub nazwisko i imię wystawcy rach./faktury i adres | L11: Opis/zgodnie z katalogiem kosztów
J14: =H14+I14 -> 0
J15: =H15+I15 -> 0
J16: =H16+I16 -> 0
J17: =H17+I17 -> 0
J18: =H18+I18 -> 0
J19: =H19+I19 -> 0
J20: =H20+I20 -> 0
J21: =H21+I21 -> 0
J22: =H22+I22 -> 0
J23: =H23+I23 -> 0
J24: =H24+I24 -> 0
J25: =H25+I25 -> 0
... J51: =H51+I51 -> 0
A52: RAZEM | H52: =SUM(H14:H51) -> 0 | I52: =SUM(I14:I51) -> 0 | J52: =SUM(J14:J51) -> 0
A53: * - niewłaściwe skreślić
A54: ** dotyczy środków FRKF
F58: Osoba uprawniona | L58: Osoba uprawniona
F59: (pieczątka i podpis) | L59: (pieczątka i podpis)

Sheet 28_BFP
A1: ........................................................ | L1: ='28_akcje 1'!K1 -> Załącznik nr 28 do umowy nr 2026.0225/0281/SubB/DSW
A2: Zleceniobiorca
A3: Zestawienie faktur (rachunków) do zrealizowanego działania
A4: (sporządzić odrębnie dla każdego działania)
A5: Szkolenie sportowe i współzawodnictwo młodzieży realizowane w sporcie akademickim, Wojskowych Centrach Szkolenia Sportowego oraz Ośrodkach Szkolenia Sportowego Młodzieży Ludowych Zespołów Sportowych*
A6: Bezosobowy fundusz płac
A7: ='28_akcje 1'!A7:K7 -> w terminie od 1 stycznia do 30 czerwca roku 2026
A9: ='28_akcje 1'!A9:K9 -> wybierz z listy
A11: Realiz. | B11: Sport | C11: Lp. | D11: Nr z zał. 25b | E11: Numer faktury/rachunku | F11: Data wystawienia | G11: Data zapłaty | H11: Środki FRKF | I11: Środki własne | J11: Razem | K11: Nazwa firmy lub nazwisko i imię wystawcy rach./faktury i adres | L11: Opis/zgodnie z katalogiem kosztów
J14: =H14+I14 -> 0
J15: =H15+I15 -> 0
J16: =H16+I16 -> 0
J17: =H17+I17 -> 0
J18: =H18+I18 -> 0
J19: =H19+I19 -> 0
J20: =H20+I20 -> 0
J21: =H21+I21 -> 0
J22: =H22+I22 -> 0
J23: =H23+I23 -> 0
J24: =H24+I24 -> 0
J25: =H25+I25 -> 0
... J51: =H51+I51 -> 0
A52: RAZEM | H52: =SUM(H14:H51) -> 0 | I52: =SUM(I14:I51) -> 0 | J52: =SUM(J14:J51) -> 0
A53: * - niewłaściwe skreślić
A54: ** dotyczy środków FRKF
F58: Osoba uprawniona | L58: Osoba uprawniona
F59: (pieczątka i podpis) | L59: (pieczątka i podpis)

Sheet 28_DG
A1: ........................................................ | L1: ='28_akcje 1'!K1 -> Załącznik nr 28 do umowy nr 2026.0225/0281/SubB/DSW
A2: Zleceniobiorca
A3: Zestawienie faktur (rachunków) do zrealizowanego działania
A4: (sporządzić odrębnie dla każdego działania)
A5: Szkolenie sportowe i współzawodnictwo młodzieży realizowane w sporcie akademickim, Wojskowych Centrach Szkolenia Sportowego oraz Ośrodkach Szkolenia Sportowego Młodzieży Ludowych Zespołów Sportowych*
A6: Działalnosć gospodarcza
A7: ='28_akcje 1'!A7:K7 -> w terminie od 1 stycznia do 30 czerwca roku 2026
A9: ='28_akcje 1'!A9:K9 -> wybierz z listy
A11: Realiz. | B11: Sport | C11: Lp. | D11: Nr z zał. 25c | E11: Numer faktury/rachunku | F11: Data wystawienia | G11: Data zapłaty | H11: Środki FRKF | I11: Środki własne | J11: Razem | K11: Nazwa firmy lub nazwisko i imię wystawcy rach./faktury i adres | L11: Opis/zgodnie z katalogiem kosztów
J14: =H14+I14 -> 0
J15: =H15+I15 -> 0
J16: =H16+I16 -> 0
J17: =H17+I17 -> 0
J18: =H18+I18 -> 0
J19: =H19+I19 -> 0
J20: =H20+I20 -> 0
J21: =H21+I21 -> 0
J22: =H22+I22 -> 0
J23: =H23+I23 -> 0
J24: =H24+I24 -> 0
J25: =H25+I25 -> 0
... J51: =H51+I51 -> 0
A52: RAZEM | H52: =SUM(H14:H51) -> 0 | I52: =SUM(I14:I51) -> 0 | J52: =SUM(J14:J51) -> 0
A53: * - niewłaściwe skreślić
A54: ** dotyczy środków FRKF
F58: Osoba uprawniona | L58: Osoba uprawniona
F59: (pieczątka i podpis) | L59: (pieczątka i podpis)

Sheet 28_ubezpieczenia
A1: ........................................................ | K1: ='28_akcje 1'!K1 -> Załącznik nr 28 do umowy nr 2026.0225/0281/SubB/DSW
A2: Zleceniobiorca
A3: Zestawienie faktur (rachunków) do zrealizowanego działania
A4: (sporządzić odrębnie dla każdego działania)
A5: Szkolenie sportowe i współzawodnictwo młodzieży realizowane w sporcie akademickim, Wojskowych Centrach Szkolenia Sportowego oraz Ośrodkach Szkolenia Sportowego Młodzieży Ludowych Zespołów Sportowych*
A6: Ubezpieczenia zawodników, trenerów
A7: ='28_akcje 1'!A7:K7 -> w terminie od 1 stycznia do 30 czerwca roku 2026
A9: ='28_akcje 1'!A9:K9 -> wybierz z listy
A11: Realiz. | B11: Sport | C11: Lp. | D11: Numer faktury/rachunku | E11: Data wystawienia | F11: Data zapłaty | G11: Środki FRKF | H11: Środki własne | I11: Razem | J11: Nazwa firmy lub nazwisko i imię wystawcy rach./faktury i adres | K11: Opis/zgodnie z katalogiem kosztów
I14: =G14+H14 -> 0
I15: =G15+H15 -> 0
I16: =G16+H16 -> 0
I17: =G17+H17 -> 0
I18: =G18+H18 -> 0
I19: =G19+H19 -> 0
I20: =G20+H20 -> 0
I21: =G21+H21 -> 0
I22: =G22+H22 -> 0
I23: =G23+H23 -> 0
I24: =G24+H24 -> 0
I25: =G25+H25 -> 0
... I51: =G51+H51 -> 0
A52: RAZEM | G52: =SUM(G14:G51) -> 0 | H52: =SUM(H14:H51) -> 0 | I52: =SUM(I14:I51) -> 0
A53: * - niewłaściwe skreślić
A54: ** dotyczy środków FRKF
E58: Osoba uprawniona | K58: Osoba uprawniona
E59: (pieczątka i podpis) | K59: (pieczątka i podpis)

Sheet 28_inne
A1: ........................................................ | K1: ='28_akcje 1'!K1 -> Załącznik nr 28 do umowy nr 2026.0225/0281/SubB/DSW
A2: Zleceniobiorca
A3: Zestawienie faktur (rachunków) do zrealizowanego działania
A4: (sporządzić odrębnie dla każdego działania)
A5: Szkolenie sportowe i współzawodnictwo młodzieży realizowane w sporcie akademickim, Wojskowych Centrach Szkolenia Sportowego oraz Ośrodkach Szkolenia Sportowego Młodzieży Ludowych Zespołów Sportowych*
A6: Inne, wyłącznie związane z bezpośrednią realizacją zadań
A7: ='28_akcje 1'!A7:K7 -> w terminie od 1 stycznia do 30 czerwca roku 2026
A9: ='28_akcje 1'!A9:K9 -> wybierz z listy
A11: Realiz. | B11: Sport | C11: Lp. | D11: Numer faktury/rachunku | E11: Data wystawienia | F11: Data zapłaty | G11: Środki FRKF | H11: Środki własne | I11: Razem | J11: Nazwa firmy lub nazwisko i imię wystawcy rach./faktury i adres | K11: Opis/zgodnie z katalogiem kosztów
I14: =G14+H14 -> 0
I15: =G15+H15 -> 0
I16: =G16+H16 -> 0
I17: =G17+H17 -> 0
I18: =G18+H18 -> 0
I19: =G19+H19 -> 0
I20: =G20+H20 -> 0
I21: =G21+H21 -> 0
I22: =G22+H22 -> 0
I23: =G23+H23 -> 0
I24: =G24+H24 -> 0
I25: =G25+H25 -> 0
... I51: =G51+H51 -> 0
A52: RAZEM | G52: =SUM(G14:G51) -> 0 | H52: =SUM(H14:H51) -> 0 | I52: =SUM(I14:I51) -> 0
A53: * - niewłaściwe skreślić
A54: ** dotyczy środków FRKF
E58: Osoba uprawniona | K58: Osoba uprawniona
E59: (pieczątka i podpis) | K59: (pieczątka i podpis)

Sheet 28_k.pośr.
A1: ........................................................ | L1: ='28_akcje 1'!K1 -> Załącznik nr 28 do umowy nr 2026.0225/0281/SubB/DSW
A2: Zleceniobiorca
A3: Zestawienie faktur (rachunków) do zrealizowanego działania
A4: (sporządzić odrębnie dla każdego działania)
A5: Szkolenie sportowe i współzawodnictwo młodzieży realizowane w sporcie akademickim, Wojskowych Centrach Szkolenia Sportowego oraz Ośrodkach Szkolenia Sportowego Młodzieży Ludowych Zespołów Sportowych*
A6: Koszty pośrednie
A7: ='28_akcje 1'!A7:K7 -> w terminie od 1 stycznia do 30 czerwca roku 2026
A9: ='28_akcje 1'!A9:K9 -> wybierz z listy
A11: Realiz. | B11: Sport | C11: Lp. | D11: Nr z zał. 26 | E11: Numer faktury/rachunku | F11: Data wystawienia | G11: Data zapłaty | H11: Środki FRKF | I11: Środki własne | J11: Razem | K11: Nazwa firmy lub nazwisko i imię wystawcy rach./faktury i adres | L11: Opis/zgodnie z katalogiem kosztów
J14: =H14+I14 -> 0
J15: =H15+I15 -> 0
J16: =H16+I16 -> 0
J17: =H17+I17 -> 0
J18: =H18+I18 -> 0
J19: =H19+I19 -> 0
J20: =H20+I20 -> 0
J21: =H21+I21 -> 0
J22: =H22+I22 -> 0
J23: =H23+I23 -> 0
J24: =H24+I24 -> 0
J25: =H25+I25 -> 0
... J51: =H51+I51 -> 0
A52: RAZEM | H52: =SUM(H14:H51) -> 0 | I52: =SUM(I14:I51) -> 0 | J52: =SUM(J14:J51) -> 0
A53: * - niewłaściwe skreślić
A54: ** dotyczy środków FRKF
F58: Osoba uprawniona | L58: Osoba uprawniona
F59: (pieczątka i podpis) | L59: (pieczątka i podpis)

Sheet legenda
C1: wybierz z listy
B2: AZS AWF Biała Podlaska | C2: ACSS Biała Podlaska (AZS AWF Biała Podlaska) - BP | D2: BP | F2: 5N | G2: Pięciobój Nowoczesny | I2: 1 | J2: Zgrupowania krajowe | L2: TAK
B3: AZS AWFiS Gdańsk | C3: ACSS Gdańsk (AZS AWFiS Gdańsk) - GD | D3: GD | F3: AC | G3: dla wszystkich sekcji | I3: 2 | J3: Zgrupowania zagraniczne | L3: NIE
B4: AZS AWF Gorzów | C4: ACSS Gorzów (AZS AWF Gorzów) - GO | D4: GO | F4: BA | G4: Badminton | I4: 3 | J4: Zawody krajowe
B5: AZS AWF Katowice | C5: ACSS Katowice (AZS AWF Katowice) - KA | D5: KA | F5: BI | G5: Biathlon | I5: 4 | J5: Zawody zagraniczne
B6: AZS AWF Kraków | C6: ACSS Kraków (AZS AWF Kraków) - KR | D6: KR | F6: BO | G6: Bobsleje | I6: 5 | J6: Doszkalanie kadry
B7: AZS KŚ WL Lublin | C7: ACSS Lublin (AZS KŚ WL Lublin) - LU | D7: LU | F7: BX | G7: Boks | I7: 6 | J7: Leki, suplementy diety, odżywki
B8: AZS Łódź | C8: ACSS Łódź (AZS Łódź) - ŁÓ | D8: ŁÓ | F8: GI | G8: Gimnastyka sportowa | I8: 7 | J8: Zakup sprzętu sportowego
B9: AZS UWM Olsztyn | C9: ACSS Olsztyn (AZS UWM Olsztyn) - OL | D9: OL | F9: JE | G9: Jeździectwo | I9: 8 | J9: Badania diagnostyczne
B10: AZS Polit. Opole | C10: ACSS Opole (AZS Politechnika Opole) - OP | D10: OP | F10: JU | G10: Judo | I10: 9 | J10: OFP
B11: AZS AWF Poznań | C11: ACSS Poznań (AZS AWF Poznań) - PO | D11: PO | F11: KG | G11: Kajakarstwo górskie (slalomowe) | I11: 10 | J11: BFP
B12: OŚ AZS Poznań | C12: ACSS Poznań (AZS OŚ Poznań) - POO | D12: POO | F12: KK | G12: Kajakarstwo klasyczne (sprint) | I12: 11 | J12: Dz.Gosp.
B13: AZS Szczecin | C13: ACSS Szczecin (AZS Szczecin) - SZ | D13: SZ | F13: KO | G13: Kolarstwo | I13: 12 | J13: Ubezpieczenia
B14: AZS UMK Toruń | C14: ACSS Toruń (AZS UMK Toruń) - TO | D14: TO | F14: LA | G14: Lekkoatletyka | I14: 13 | J14: Inne za zgodą Dyrektora DSW
B15: AZS AWF Warszawa | C15: ACSS Warszawa (AZS AWF Warszawa) - WA | D15: WA | F15: ŁF | G15: Łyżwiarstwo figurowe | I15: 14 | J15: Koszty pośrednie
B16: AZS AWF Wrocław | C16: ACSS Wrocław (AZS AWF Wrocław) - WR | D16: WR | F16: ŁS | G16: Łyżwiarstwo szybkie
B17: AZS Zakopane | C17: ACSS Zakopane (AZS Zakopane) - ZA | D17: ZA | F17: ŁU | G17: Łucznictwo
B18: Zarząd Główny AZS | C18: ACSS Zarząd Główny - ZG | D18: ZG | F18: NA | G18: Narciarstwo alpejskie
C19: ACSS Zarząd Główny Rezerwa - ZGr | D19: ZGr | F19: Nkb | G19: Narciarstwo klasyczne - biegi
F20: NKk | G20: Narciarstwo klasyczne - kombinacja
F21: NKs | G21: Narciarstwo klasyczne - skoki
F22: PC | G22: Podnoszenie ciężarów
F23: PŁ | G23: Pływanie
F24: PŁs | G24: Skoki do wody
F25: SL | G25: Saneczkarstwo lodowe
F26: SN | G26: Snowboard
F27: SS | G27: Strzelectwo Sportowe
F28: ST | G28: Short Track
F29: SZb | G29: Szermierka - szabla
F30: SZf | G30: Szermierka - floret
F31: SZp | G31: Szermierka - szpada
... F39: ŻE | G39: Żeglarstwo
